BEGIN:VCALENDAR
VERSION:2.0
PRODID:-//DIGITAL FACTORY//EVENTS MAKER V1.6.14//EN
CALSCALE:GREGORIAN
BEGIN:VEVENT
DTEND:20181220T170000Z
UID:69e9a370322e9
DTSTAMP:20260423T044328Z
CATEGORIES:Giornata Tematica\,Incontro
LOCATION:Aula Magna Via Ferrata 17, pavia, pv, 27100, IT
ORGANIZER;CN=Centro Interdipartimentale di Tecnologie per la Salute:MAILTO:http://cht@unipv.it
DESCRIPTION:Titolo:  SOLUZIONI TECNOLOGICHE INTELLIGENTI PER SCONFIGGERE IL CANCRO: SFIDA POSSIBILE?  HealthTech World Cancer Day (HWCD)  Lingua:  Italiano  A cura di:  Prof.ssa Livia VISAI   Molecular Medicine Department\, UdR INSTM\, University of Pavia    [button style="btn-default btn-lg" align="left" type="link" target="false" title="Descrizione" link="#description" linkrel=""] [button style="btn-default btn-lg" align="left" type="link" target="false" title="Programma" link="#schedule" linkrel=""] [button style="btn-default btn-lg" align="left" type="link" target="false" title="Location" link="#venue" linkrel=""] [button style="btn-default btn-lg" align="left" type="link" target="false" title="Registrazione" link="#register" linkrel=""]    [panel style="panel-primary"]  [panel-header]    Scarica il programma  LOCANDINA  Descrizione e programma:  [/panel-header]  [panel-content]  La prima edizione del HealthTech World Cancer Day (HWCD 2019) avrà luogo venerdì 1° febbraio 2019 alle ore 10:00 presso l’Aula Magna del Collegio A. Volta a Pavia. L'HWCD 2019 è promosso dal progetto NOBEL\, un programma di ricerca e innovazione di Horizon 2020 dell'Unione Europea\, ed è una conferenza che avviene contemporaneamente in dieci città europee per informare il pubblico sulla rivoluzione provocata dall'utilizzo di nuove tecnologie mediche nella lotta contro il cancro. L'evento avrà luogo appena a ridosso del World Cancer Day previsto per il 4 febbraio. La conferenza prevede l'intervento di ricercatori\, clinici\, giornalisti e rappresentanti della Associazioni dei pazienti come da programma.    [table width ="100%" style ="table-striped table-bordered" responsive ="true"]  [table_body]  [table_row]  [row_column] 10:00 [/row_column]  [row_column] Breve saluto di benvenuto da parte di Roberto Bottinelli\, ProRettore alla ricerca dell’Università di Pavia e di Ermanno Gherardi\, Rettore del Collegio A. Volta di Pavia [/row_column]  [/table_row]  [table_row]  [row_column] 10:10 [/row_column]  [row_column] Introduzione all’evento da parte del moderatore\, Livia Visai (Dipartimento di Medicina Molecolare\, Centro di Tecnologie per la salute CHT\, Università degli Studi di Pavia) [/row_column]  [/table_row]  [table_row]  [row_column] 10:20 [/row_column]  [row_column] Giovanni Apolone (Direttore Scientifico della Fondazione IRCCS Istituto Nazionale dei Tumori di Milano) “La Mission in oncologia” [/row_column]  [/table_row]  [table_row]  [row_column] 10:40 [/row_column]  [row_column] Adriana Albini (Dipartimento di Medicina e Chirurgia dell’Università Bicocca e Direttore del Laboratorio di Biologia Vascolare ed Angiogenesi dell’IRCCS MultiMedica) “La Vision in oncologia preventiva: Precision Prevention e Interception?” [/row_column]  [/table_row]  [table_row]  [row_column] 11:00 [/row_column]  [row_column] Marco Danova (Direttore Medicina Interna a indirizzo Oncologico ASST Pavia e Coordinatore Regionale Lombardia Associazione Italiana di Oncologica Medica AIOM) “Ricadute delle tecnologie mediche emergenti nell'oncologica clinica” [/row_column]  [/table_row]  [table_row]  [row_column] 11:20 [/row_column]  [row_column] Gianluca Fincato (Direttore Medico di Oncologia\, Novartis Farma S.p.A) “L'apporto dell'industria nella ricerca clinica del trattamento oncologico” [/row_column]  [/table_row]  [table_row]  [row_column] 11:40 [/row_column]  [row_column] Daniela Ovadia (giornalista professionista e Direttore del Center for Ethical Science and Science Journalism di Milano) “Come comunicare l'impatto sociale delle nuove tecnologie in medicina” [/row_column]  [/table_row]  [table_row]  [row_column] 12:00 [/row_column]  [row_column] Anna De Blasi (Presidente e fondatrice dell’Associazione di promozione sociale Young Women Against Breast Cancer) “Costruiamo il futuro attraverso la prevenzione e il sostegno alla ricerca” [/row_column]  [/table_row]  [table_row]  [row_column] 12:20 [/row_column]  [row_column] Dibattito con il pubblico [/row_column]  [/table_row]  [table_row]  [row_column] 12:50 [/row_column]  [row_column] Conclusioni da parte del moderatore Livia Visai [/row_column]  [/table_row]  [table_row]  [row_column] 13:00 [/row_column]  [row_column] Fine dell’evento [/row_column]  [/table_row]  [/table_body]  [/table]    [/panel-content]  [/panel]    [panel style="panel-primary"]  [panel-header]  Crediti Formativi:  [/panel-header]  [panel-content]  Inoltre è previsto l'accreditamento di CFU per i Dottorati Universitari delle Macroaree di Scienze e Tecnologie e di Scienza della Vita e del Dottorato IUSS di Scienze Biomolecolari e Biotecnologie.  [/panel-content]  [/panel]    [panel style="panel-primary"]  [panel-header]  Location:  [/panel-header]  [panel-content]  Room D8\, Department of Electrical Computer and Biomedical Engineering\, University of Pavia  via Ferrata\, 5\; Pavia  [/panel-content]  [/panel]    [panel style="panel-primary"]  [panel-header]  Resgistrazione:  [/panel-header]  [panel-content]  Caricamento in corso...  [/panel-content]  [/panel]
URL;VALUE=URI:http://cht.unipv.it/it/eventi/event/hwcd
SUMMARY:HealthTech World Cancer Day (HWCD)
DTSTART:20181220T130000Z
RDATE:20181220T140000Z;
RDATE:20181221T140000Z;
END:VEVENT
END:VCALENDAR
